BEGIN:VCALENDAR
VERSION:2.0
PRODID:-//Harvard Club of Singapore - ECPv6.15.18//NONSGML v1.0//EN
CALSCALE:GREGORIAN
METHOD:PUBLISH
X-WR-CALNAME:Harvard Club of Singapore
X-ORIGINAL-URL:https://harvard.sg
X-WR-CALDESC:Events for Harvard Club of Singapore
REFRESH-INTERVAL;VALUE=DURATION:PT1H
X-Robots-Tag:noindex
X-PUBLISHED-TTL:PT1H
BEGIN:VTIMEZONE
TZID:Asia/Singapore
BEGIN:STANDARD
TZOFFSETFROM:+0800
TZOFFSETTO:+0800
TZNAME:+08
DTSTART:20250101T000000
END:STANDARD
END:VTIMEZONE
BEGIN:VEVENT
DTSTART;TZID=Asia/Singapore:20260122T083000
DTEND;TZID=Asia/Singapore:20260122T100000
DTSTAMP:20260422T162220
CREATED:20251130T025017Z
LAST-MODIFIED:20260113T033110Z
UID:10000275-1769070600-1769076000@harvard.sg
SUMMARY:Breakfast with Dean Hopi Hoekstra
DESCRIPTION:Please join your fellow alumni at a breakfast meeting with Hopi Hoekstra\, Edgerley Family Dean of the Faculty of Arts and Sciences\, on Thursday\, January 22\, 2026.  One of our alumni will be hosting this event at their private residence.  \n\n\n\nThe intimate gathering offers a unique opportunity to engage with Dean Hoekstra in thoughtful conversation and gain insight into her vision and priorities for the Faculty of Arts and Sciences.  \n\n\n\nDean Hoekstra is the Edgerley Family Dean of the Faculty of Arts and Sciences\, C.Y. Chan Professor of Arts and Sciences and Xiaomeng Tong and Yu Chen Professor of Life Sciences. Dean Hoekstra is a leader in the study of behavioural genetics and evolutionary biology. \n\n\n\nPlease RSVP here by Thursday\, January 15\, 2026.  \n\n\n\nQuestions?  Contact singapore@harvard.sg Event Details \n\n\n\n\nWhen: Thursday\, January 22\, 2026 from 8.30 am till 10.00 am\n\n\n\nWhere: Bukit Timah (address will be sent to the registrants)\n\n\n\nFee: Free
URL:https://harvard.sg/event/breakfast-with-dean-hopi-hoekstra/
LOCATION:Bukit Timah\, Singapore
ATTACH;FMTTYPE=image/png:https://harvard.sg/wp-content/uploads/2025/11/22Jan2026.png
END:VEVENT
BEGIN:VEVENT
DTSTART;TZID=Asia/Singapore:20260131T124500
DTEND;TZID=Asia/Singapore:20260131T150000
DTSTAMP:20260422T162220
CREATED:20251229T150629Z
LAST-MODIFIED:20251229T150848Z
UID:10000278-1769863500-1769871600@harvard.sg
SUMMARY:Discover Singapore American School: An Exclusive Campus Experience
DESCRIPTION:Encouraged by the positive response from our recent UWC South East Asia (UWCSEA) Dover Campus tour\, we are pleased to continue our International School Admissions Tour series with an exclusive visit to Singapore American School (SAS). \n\n\n\nThis private tour\, specially arranged by the SAS Admissions team\, will begin with a comprehensive introduction to the school\, followed by a guided private tour of the full campus (from elementary school to high school). Coinciding with SAS’s International Fair and IASIS (Interscholastic Association of Southeast Asian Schools) sports events\, this visit also offers a unique opportunity to experience the vibrant campus atmosphere and diverse school community within SAS. Attendees Members are warmly invited to stay on and enjoy the festivities. \n\n\n\nSingapore American School (SAS) is a non-profit\, independent\, co-educational day school that offers an American-based curriculum for students in preschool through high school. One of Singapore’s first international schools\, SAS was founded in 1956 and started with a hundred students in a colonial house. It has since developed into a school of over 4\,000 students on a 1.5-acre (0.61 ha) campus. SAS is accredited by the US-based Western Association of Schools and Colleges (WASC). \n\n\n\nThis is a Harvard Club of Singapore’s members-only event\, designed to give our alumni community direct insightsinto SAS’ philosophy and learning environment \n\n\n\nRSVP by January 24th 2026 \n\n\n\nImportant note:\n\n\n\nTickets are available for purchase only by qualified dues-paying Harvard Club members. Each member is allowed to buy a ticket for one guest\, who must be accompanied by a qualified member. Tickets are non-refundable\, so please make sure to confirm your membership status before buying.
URL:https://harvard.sg/event/discover-singapore-american-school-an-exclusive-campus-experience/
LOCATION:Singapore American School\, 40 Woodlands Street 41\, Singapore\, 738547\, Singapore
ATTACH;FMTTYPE=image/jpeg:https://harvard.sg/wp-content/uploads/2025/12/WhatsApp-Image-2025-12-28-at-00.26.21.jpeg
END:VEVENT
END:VCALENDAR